BEGIN:VCALENDAR
VERSION:2.0
PRODID:-//Visit Little Village - ECPv6.15.15//NONSGML v1.0//EN
CALSCALE:GREGORIAN
METHOD:PUBLISH
X-WR-CALNAME:Visit Little Village
X-ORIGINAL-URL:https://visitlittlevillage.com
X-WR-CALDESC:Events for Visit Little Village
REFRESH-INTERVAL;VALUE=DURATION:PT1H
X-Robots-Tag:noindex
X-PUBLISHED-TTL:PT1H
BEGIN:VTIMEZONE
TZID:UTC
BEGIN:STANDARD
TZOFFSETFROM:+0000
TZOFFSETTO:+0000
TZNAME:UTC
DTSTART:20250101T000000
END:STANDARD
END:VTIMEZONE
BEGIN:VEVENT
DTSTART;VALUE=DATE:20260401
DTEND;VALUE=DATE:20260501
DTSTAMP:20260422T103527
CREATED:20260410T012940Z
LAST-MODIFIED:20260410T012951Z
UID:10001898-1775001600-1777593599@visitlittlevillage.com
SUMMARY:Wintrust Bank Little Village
DESCRIPTION:
URL:https://visitlittlevillage.com/event/wintrust-bank-little-village/
LOCATION:Wintrust Bank – Little Village\, 3354 W 26th St\, CHICAGO\, IL\, 60623-3936\, United States
END:VEVENT
BEGIN:VEVENT
DTSTART;VALUE=DATE:20260401
DTEND;VALUE=DATE:20260501
DTSTAMP:20260422T103527
CREATED:20260421T162703Z
LAST-MODIFIED:20260421T162703Z
UID:10001899-1775001600-1777593599@visitlittlevillage.com
SUMMARY:Disaster Loans for Businesses and Nonprofits
DESCRIPTION:
URL:https://visitlittlevillage.com/event/disaster-loans-for-businesses-and-nonprofits/
CATEGORIES:Fundraiser
END:VEVENT
BEGIN:VEVENT
DTSTART;VALUE=DATE:20260401
DTEND;VALUE=DATE:20260501
DTSTAMP:20260422T103527
CREATED:20260421T162902Z
LAST-MODIFIED:20260421T162902Z
UID:10001900-1775001600-1777593599@visitlittlevillage.com
SUMMARY:Calendar of Events - Urban Warriors
DESCRIPTION:
URL:https://visitlittlevillage.com/event/calendar-of-events-urban-warriors/
CATEGORIES:Fundraiser
END:VEVENT
BEGIN:VEVENT
DTSTART;VALUE=DATE:20260401
DTEND;VALUE=DATE:20260501
DTSTAMP:20260422T103527
CREATED:20260421T170541Z
LAST-MODIFIED:20260421T170541Z
UID:10001904-1775001600-1777593599@visitlittlevillage.com
SUMMARY:Cara Collective / Clean Slate - Junk Removal
DESCRIPTION:
URL:https://visitlittlevillage.com/event/cara-collective-clean-slate-junk-removal/
CATEGORIES:Community
END:VEVENT
BEGIN:VEVENT
DTSTART;VALUE=DATE:20260401
DTEND;VALUE=DATE:20260501
DTSTAMP:20260422T103527
CREATED:20260421T170729Z
LAST-MODIFIED:20260421T170729Z
UID:10001905-1775001600-1777593599@visitlittlevillage.com
SUMMARY:Chicago Public Library - Calendar of Events
DESCRIPTION:
URL:https://visitlittlevillage.com/event/chicago-public-library-calendar-of-events/
CATEGORIES:Community
END:VEVENT
BEGIN:VEVENT
DTSTART;VALUE=DATE:20260401
DTEND;VALUE=DATE:20260501
DTSTAMP:20260422T103527
CREATED:20260421T170815Z
LAST-MODIFIED:20260421T170815Z
UID:10001906-1775001600-1777593599@visitlittlevillage.com
SUMMARY:Food Hero - Culinary Fundamentals
DESCRIPTION:
URL:https://visitlittlevillage.com/event/food-hero-culinary-fundamentals/
CATEGORIES:Training
END:VEVENT
END:VCALENDAR